BEGIN:VCALENDAR
VERSION:2.0
PRODID:-//Stonefield Cellars Winery - ECPv6.15.20//NONSGML v1.0//EN
CALSCALE:GREGORIAN
METHOD:PUBLISH
X-ORIGINAL-URL:https://stonefieldcellars.com
X-WR-CALDESC:Events for Stonefield Cellars Winery
REFRESH-INTERVAL;VALUE=DURATION:PT1H
X-Robots-Tag:noindex
X-PUBLISHED-TTL:PT1H
BEGIN:VTIMEZONE
TZID:America/New_York
BEGIN:DAYLIGHT
TZOFFSETFROM:-0500
TZOFFSETTO:-0400
TZNAME:EDT
DTSTART:20240310T070000
END:DAYLIGHT
BEGIN:STANDARD
TZOFFSETFROM:-0400
TZOFFSETTO:-0500
TZNAME:EST
DTSTART:20241103T060000
END:STANDARD
BEGIN:DAYLIGHT
TZOFFSETFROM:-0500
TZOFFSETTO:-0400
TZNAME:EDT
DTSTART:20250309T070000
END:DAYLIGHT
BEGIN:STANDARD
TZOFFSETFROM:-0400
TZOFFSETTO:-0500
TZNAME:EST
DTSTART:20251102T060000
END:STANDARD
BEGIN:DAYLIGHT
TZOFFSETFROM:-0500
TZOFFSETTO:-0400
TZNAME:EDT
DTSTART:20260308T070000
END:DAYLIGHT
BEGIN:STANDARD
TZOFFSETFROM:-0400
TZOFFSETTO:-0500
TZNAME:EST
DTSTART:20261101T060000
END:STANDARD
END:VTIMEZONE
BEGIN:VEVENT
DTSTART;TZID=America/New_York:20250808T190000
DTEND;TZID=America/New_York:20250808T210000
DTSTAMP:20260424T222419
CREATED:20241205T203714Z
LAST-MODIFIED:20250726T195800Z
UID:24509-1754679600-1754686800@stonefieldcellars.com
SUMMARY:Friday Flavors Concert - The Ghosts of Liberty (Tyler and Emma Millard)
DESCRIPTION:Advance tickets available until 3PM the day of the concert\, tickets sold at the gate thereafter. \nThe Ghosts of Liberty (Tyler and Emma Millard and bandmates)- \nAmericana folk-rock act based in the foothills of North Carolina- The Ghosts of Liberty comprises husband & wife duo Emma Millard (Lead Vocals\, Keyboard) and Tyler Millard (Vocals\, Guitar). They bring together their combined influences of roots\, blues\, rock and soul\, delivering a truly original package that could only be born of two people living and working under the same roof. Tyler discovered his passion for music while losing his vision to RP\, a degenerative retinal disease- and Emma comes from a background in multi-genre vocal performance\, beginning with classical training at an early age. Ty’s steady and cool nature balances Em’s gutsy emotionality\, and together they are a musical force. They have been playing and writing together for the better part of a decade\, and through many of life’s challenges have maintained a deep and abiding appreciation for how music and love can truly overcome any obstacle. \nAdvance Ticket Purchase is Recommended: If you ever have trouble with our online ticketing (see below)\, please call the winery during business hours – Thursday\, Friday\, and Saturdays Noon-6pm\, or Sundays 1-6pm:   336-644-9908 \nYou will not receive physical tickets. Your name will be placed on a Pre-Paid Will-Call list at the Entrance Table; please have your ID available in case we need to confirm your ticket purchase. Again\, if you have any questions regarding tickets you can reach us over the phone at 336-644-9908 during regular business hours (12-6pm Thurs-Sat & 1-6pm Sun). \nCOST:  See Seating Options below. \nEVENT TIMELINE:   Concert is from 7-9 (or a wee bit later) pm. The Food Truck will be ready to serve by 6:30 pm. Guests may arrive at any time prior to the concert. Prior to 6:30 pm please proceed to our Tasting Room to purchase your ticket or get your prepaid wristband. After 6:30 pm\, at-the-gate sales and Will Call check-in will be at our Entrance Table. \nINSIDE OR OUT?: This concert will be held OUTSIDE in our lovely garden\, rain or shine. Dress for the weather.  Should severe\, unsafe conditions arise\, it is possible that the concert will be delayed or interrupted until it is safe to start/resume.  We will post any schedule changes on our website and on the Stonefield Cellars Winery Facebook Page. \nSEATING: \n\n4-person Front Row VIP Bistro Seating for $60 (includes admission for four)\n6-person Front Row VIP Glass-Top Table Seating for $90 (includes admission for six)\n4-person Pavilion VIP Bistro Seating for $60 (includes admission for four)\nGeneral Admission ($12.50/person): Bring a lawn chair for our terraced lawn area\, or we have first-come-first-seat picnic tables in the upper garden.\nSide Lawn Admission ($10/person): Bring a lawn chair or picnic blanket. This area does not have a direct view of the band! Best for guests who want plenty of room to socialize\, drink and dance. Side Lawn attendees can still hear the music and the lawn has easy access to our Tasting Room & Food Truck. (Picnic blankets available in Tasting Room\, boho tables on side lawn are available on an unreserved basis.)\n\n \n \n \nDRINKS:   Wine\, Fresh Sangria\, Beer\, and non-alcoholic beverages will be available for purchase. \nFOOD:  The Wandering Waffle – Savory: Chicken\, Chili\, Corndogs/ Sweet: Gourmet Ice Cream in a Bubble Waffle \nEVENT POLICIES – \n\nPlease follow best-practice protocols for keeping yourself and our community safe from any communicable disease.  Please refrain from visiting us when you are sick.\nNo Pets\nNo Outside Alcohol (because that is prohibited by law) or Outside Food (please support the Food Truck)\nNo Coolers (complimentary beverage chillers available at bar)\nNo Smoking (includes vaping)\nNo Littering our parking lot or property\n\nConcert tickets are non-refundable. \nAFTER 3PM day of show\, Tickets will only be available at the GATE as we will not be able to take ticket orders over the phone.  
URL:https://stonefieldcellars.com/event/friday-flavors-concert-the-ghosts-of-liberty-08aug25/
LOCATION:Stonefield Cellars Winery\, 8220 NC-68\, Stokesdale\, NC\, 27357\, United States
CATEGORIES:Concert,Food Truck,Live Music,Ticketed Event
END:VEVENT
END:VCALENDAR