BEGIN:VCALENDAR
VERSION:2.0
PRODID:-//Stonefield Cellars Winery - ECPv6.15.20//NONSGML v1.0//EN
CALSCALE:GREGORIAN
METHOD:PUBLISH
X-WR-CALNAME:Stonefield Cellars Winery
X-ORIGINAL-URL:https://stonefieldcellars.com
X-WR-CALDESC:Events for Stonefield Cellars Winery
REFRESH-INTERVAL;VALUE=DURATION:PT1H
X-Robots-Tag:noindex
X-PUBLISHED-TTL:PT1H
BEGIN:VTIMEZONE
TZID:America/New_York
BEGIN:DAYLIGHT
TZOFFSETFROM:-0500
TZOFFSETTO:-0400
TZNAME:EDT
DTSTART:20240310T070000
END:DAYLIGHT
BEGIN:STANDARD
TZOFFSETFROM:-0400
TZOFFSETTO:-0500
TZNAME:EST
DTSTART:20241103T060000
END:STANDARD
BEGIN:DAYLIGHT
TZOFFSETFROM:-0500
TZOFFSETTO:-0400
TZNAME:EDT
DTSTART:20250309T070000
END:DAYLIGHT
BEGIN:STANDARD
TZOFFSETFROM:-0400
TZOFFSETTO:-0500
TZNAME:EST
DTSTART:20251102T060000
END:STANDARD
BEGIN:DAYLIGHT
TZOFFSETFROM:-0500
TZOFFSETTO:-0400
TZNAME:EDT
DTSTART:20260308T070000
END:DAYLIGHT
BEGIN:STANDARD
TZOFFSETFROM:-0400
TZOFFSETTO:-0500
TZNAME:EST
DTSTART:20261101T060000
END:STANDARD
END:VTIMEZONE
BEGIN:VEVENT
DTSTART;TZID=America/New_York:20250606T190000
DTEND;TZID=America/New_York:20250606T210000
DTSTAMP:20260424T232518
CREATED:20241201T192704Z
LAST-MODIFIED:20250426T175314Z
UID:24421-1749236400-1749243600@stonefieldcellars.com
SUMMARY:Friday Flavors Concert - Moxie  (Classic R & B\, Soul & Funk)
DESCRIPTION:Online tickets for this concert will be available starting May 1st through  3PM the day of the concert\, tickets sold at the gate thereafter. \nFRIDAY FLAVORS CONCERT – MOXIE BAND – June 6th\, 2025 – 7-9ish pm \nPresenting the best in Classic R&B\, Soul & Funk\, Moxie Band has the energy\, style\, and impeccable musicianship it takes to be worthy of us touting them as OUR FAVORITE.  We think they will be yours too!  The dance floor will be hopping this night\, for sure! \nAdvance Ticket Purchase is Recommended: You will not receive physical tickets. Your name will be placed on a Pre-Paid Will-Call list at the Entrance Table; please have your ID available in case we need to confirm your ticket purchase. If you have any questions regarding tickets you can reach us over the phone at 336-644-9908 during regular business hours (12-6pm Thurs-Sat & 1-6pm Sun). \nCOST:  See Seating Options below. \nEVENT TIMELINE:   Concert is from 7-9 (or a wee bit later) pm. The Food Truck will be ready to serve by 6:30 pm. Guests may arrive at any time prior to the concert. Prior to 6:30 pm please proceed to our Tasting Room to purchase your ticket or get your prepaid wristband. After 6:30 pm\, at-the-gate sales and Will Call check-in will be at our Entrance Table. \nINSIDE OR OUT?: This concert will be held OUTSIDE in our lovely garden\, rain or shine. Dress for the weather.  Should severe\, unsafe conditions arise\, it is possible that the concert will be delayed or interrupted until it is safe to start/resume.  We will post any schedule changes on our website and on the Stonefield Cellars Winery Facebook Page. \nSEATING:    \n\n4-person Front Row VIP Bistro Seating for $60 (includes admission for four)\n6-person Front Row VIP Glass-Top Table Seating for $90 (includes admission for six)\n4-person Pavilion VIP Bistro Seating for $60 (includes admission for four)\nGeneral Admission ($12.50/person): Bring a lawn chair for our terraced lawn area\, or we have first-come-first-seat picnic tables in the upper garden.\nSide Lawn Admission ($10/person): Bring a lawn chair or picnic blanket. This area does not have a direct view of the band! Best for guests who want plenty of room to socialize\, drink and dance. Side Lawn attendees can still hear the music and the lawn has easy access to our Tasting Room & Food Truck. (Picnic blankets available in Tasting Room\, boho tables on side lawn are available on an unreserved basis.)\n\n \n \n \nDRINKS:   Wine\, Fresh Sangria\, Beer\, and non-alcoholic beverages will be available for purchase. \nFOOD:  Zeko’s 2 Go (Pitas\, phillysteaks\, chicken\, and veggie options) \nEVENT POLICIES – \n\nPlease follow best-practice protocols for keeping yourself and our community safe from any communicable disease.  Please refrain from visiting us when you are sick.\nNo Pets\nNo Outside Alcohol (because that is prohibited by law) or Outside Food (please support the Food Truck)\nNo Coolers (complimentary beverage chillers available at bar)\nNo Smoking (includes vaping)\nNo Littering our parking lot or property\n\nConcert tickets are non-refundable. \nAFTER 3PM day of show\, Tickets will only be available at the GATE.  
URL:https://stonefieldcellars.com/event/friday-flavors-concert-moxie-band-06june25/
LOCATION:Stonefield Cellars Winery\, 8220 NC-68\, Stokesdale\, NC\, 27357\, United States
CATEGORIES:Concert,Food Truck,Ticketed Event
END:VEVENT
BEGIN:VEVENT
DTSTART;TZID=America/New_York:20250613T190000
DTEND;TZID=America/New_York:20250613T210000
DTSTAMP:20260424T232518
CREATED:20241201T201615Z
LAST-MODIFIED:20250426T175827Z
UID:24432-1749841200-1749848400@stonefieldcellars.com
SUMMARY:Friday Flavors Concert - Radio Revolver (Rock and Blues)
DESCRIPTION:  \n \nRADIO REVOLVER – June 13th\, 2025 \nOnline tickets for this concert will be available until 3PM the day of the concert\, tickets sold at the gate thereafter. \nLet’s just say this band is one of the top rock cover bands in the Triad.  We love them and think you will too! \nUpdate from Radio Revolver: \n\n\n\n\n\n\n\n BIG NEWS\, REVOLVER FANS! \n\n\nWe are beyond thrilled to introduce the insanely talented **Sarah Strable** as the **new lead singer** for **Radio Revolver!**  From the moment we met Sarah\, we knew she was something special—and let’s just say\, she’s blown us away with her powerhouse vocals and electrifying energy! \n\n\nWe’ve attached her **BIO** and some killer **performance pics** so you can see exactly why we’re so pumped! Go check them out! \n\n\nBIO Sarah Strable:\n\n\nSarah Strable is a vocalist\, yoga instructor\, and healing arts practitioner in Greensboro\, NC. Sarah began classical vocal studies at age 12 and started singing professionally at age 16 with the party band Timepiece. After performing with Timepiece for 6 years and earning a BA in vocal performance at Greensboro College\, Sarah co-founded the music ensemble Certified Organic with Andy Eversole; the group performed a mix of folk\, bluegrass\, and Americana. Subsequently\, during 9 years as part of the band Black and Blue\, Sarah expanded her repertoire by singing pop\, Motown\, and R&B classics all over the East Coast. Sarah joined American Cruise Lines as a resident entertainer in 2023\, sharing the gift of music on America’s rivers and oceans.\n\n\nIn addition to delivering stunning versions of the National Anthem for high profile events like the 2020 U.S. Figure Skating Championships\, Sarah has been a prolific studio recording artist for many North Carolina-based song-writers and groups\, including The Catalinas\, Andy Eversole\, Viva La Muerte\, Banjo Earth Band\, The Deluge\, and Dan Shull. In 2008\, Sarah’s lead vocal on the song “My Sweet Talkin’ Daddy” helped the song climb to number 8 on the beach music charts. Her vocals can also be heard on several film soundtracks\, including the 2018 IMAX film\, In Saturn’s Rings.\n\n\nCurrently\, Sarah enjoys contributing to new recording projects and appearing with a wide variety of groups. You may find her dancing melodies over big bands like Durham-based NC Revelers Orchestra\, entertaining cruise passengers\, jamming out with rock bands\, or entrancing spell-bound audiences with intimate jazz ensembles.\n\n\n\n\n\n\n\n\n\n\n\n\n\n\n\n\n\n\nAdvance Ticket Purchase is Recommended: You will not receive physical tickets. Your name will be placed on a Pre-Paid Will-Call list at the Entrance Table; please have your ID available in case we need to confirm your ticket purchase. If you have any questions regarding tickets you can reach us over the phone at 336-644-9908 during regular business hours (12-6pm Thurs-Sat & 1-6pm Sun). \n\n\n\n\n\n\n\nCOST:  See Seating Options below. \nEVENT TIMELINE:   Concert is from 7-9 (or a wee bit later) pm. The Food Truck will be ready to serve by 6:30 pm. Guests may arrive at any time prior to the concert. Prior to 6:30 pm please proceed to our Tasting Room to purchase your ticket or get your prepaid wristband. After 6:30 pm\, at-the-gate sales and Will Call check-in will be at our Entrance Table. \nINSIDE OR OUT?: This concert will be held OUTSIDE in our lovely garden\, rain or shine. Dress for the weather.  Should severe\, unsafe conditions arise\, it is possible that the concert will be delayed or interrupted until it is safe to start/resume.  We will post any schedule changes on our website and on the Stonefield Cellars Winery Facebook Page. \nSEATING: \n\n4-person Front Row VIP Bistro Seating for $60 (includes admission for four)\n6-person Front Row VIP Glass-Top Table Seating for $90 (includes admission for six)\n4-person Pavilion VIP Bistro Seating for $60 (includes admission for four)\nGeneral Admission ($12.50/person): Bring a lawn chair for our terraced lawn area\, or we have first-come-first-seat picnic tables in the upper garden.\n\n\nSide Lawn Admission ($10/person): Bring a lawn chair or picnic blanket. This area does not have a direct view of the band! Best for guests who want plenty of room to socialize\, drink and dance. Side Lawn attendees can still hear the music and the lawn has easy access to our Tasting Room & Food Truck. (Picnic blankets available in Tasting Room\, boho tables on side lawn are available on an unreserved basis.)\n\n \n \n \nDRINKS:   Wine\, Fresh Sangria\, Beer\, and non-alcoholic beverages will be available for purchase. \nFOOD: Marty’s BBQ Food Truck \nEVENT POLICIES – \n\nPlease follow best-practice protocols for keeping yourself and our community safe from any communicable disease.  Please refrain from visiting us when you are sick.\nNo Pets\nNo Outside Alcohol (because that is prohibited by law) or Outside Food (please support the Food Truck)\nNo Coolers (complimentary beverage chillers available at bar)\nNo Smoking (includes vaping)\nNo Littering our parking lot or property\n\nConcert tickets are non-refundable.
URL:https://stonefieldcellars.com/event/friday-flavors-concert-radio-revolver-rock-blues-3/
LOCATION:Stonefield Cellars Winery\, 8220 NC-68\, Stokesdale\, NC\, 27357\, United States
CATEGORIES:Concert,Food Truck,Ticketed Event
END:VEVENT
BEGIN:VEVENT
DTSTART;TZID=America/New_York:20250627T190000
DTEND;TZID=America/New_York:20250627T210000
DTSTAMP:20260424T232518
CREATED:20241201T210141Z
LAST-MODIFIED:20250616T173501Z
UID:24450-1751050800-1751058000@stonefieldcellars.com
SUMMARY:Friday Flavors Concert on 6/27/25- 12M Case Band (Rock)
DESCRIPTION:Online tickets available until 3PM the day of the concert\, tickets sold at the gate thereafter. \n12MCase Band returns to the Stonefield Cellars lineup with a well earned following.  Cover songs from the 80’s\, 90’s and beyond\, this band excels at bringing you the stuff you want to hear.  Fun\, Fun\, Fun! \nAdvance Ticket Purchase is Recommended: You will not receive physical tickets. Your name will be placed on a Pre-Paid Will-Call list at the Entrance Table; please have your ID available in case we need to confirm your ticket purchase. If you have any questions regarding tickets you can reach us over the phone at 336-644-9908 during regular business hours (12-6pm Thurs-Sat & 1-6pm Sun). \nNOTE: If you are using a mobile device to order tickets\, you will need to be in ‘landscape’ mode (i.e.\, turn your phone sideways) so that you can view all fields for entering in your information. \nCOST:  See Seating Options below. \nEVENT TIMELINE:   Concert is from 7-9 (or a wee bit later) pm. The Food Truck will be ready to serve by 6:30 pm. Guests may arrive at any time prior to the concert. Prior to 6:30 pm please proceed to our Tasting Room to purchase your ticket or get your prepaid wristband. After 6:30 pm\, at-the-gate sales and Will Call check-in will be at our Entrance Table. \nINSIDE OR OUT?: This concert will be held OUTSIDE in our lovely garden\, rain or shine. Dress for the weather.  Should severe\, unsafe conditions arise\, it is possible that the concert will be delayed or interrupted until it is safe to start/resume.  We will post any schedule changes on our website and on the Stonefield Cellars Winery Facebook Page. \nSEATING: \n\n4-person Front Row VIP Bistro Seating for $60 (includes admission for four)\n6-person Front Row VIP Glass-Top Table Seating for $90 (includes admission for six)\n4-person Pavilion VIP Bistro Seating for $60 (includes admission for four)\nGeneral Admission ($12.50/person): Bring a lawn chair for our terraced lawn area\, or we have first-come-first-seat picnic tables in the upper garden.\nSide Lawn Admission ($10/person): Bring a lawn chair or picnic blanket. This area does not have a direct view of the band! Best for guests who want plenty of room to socialize\, drink and dance. Side Lawn attendees can still hear the music and the lawn has easy access to our Tasting Room & Food Truck. (Picnic blankets available in Tasting Room\, boho tables on side lawn are available on an unreserved basis.)\n\n \n \n \nDRINKS:   Wine\, Fresh Sangria\, Beer\, and non-alcoholic beverages will be available for purchase. \nFOOD:  Maho’s Bistro – Burgers\, Chicken\, Gourmet Fries\, Hot Dogs \nEVENT POLICIES – \n\nPlease follow best-practice protocols for keeping yourself and our community safe from any communicable disease.  Please refrain from visiting us when you are sick.\nNo Pets\nNo Outside Alcohol (because that is prohibited by law) or Outside Food (please support the Food Truck)\nNo Coolers (complimentary beverage chillers available at bar)\nNo Smoking (includes vaping)\nNo Littering our parking lot or property\n\nConcert tickets are non-refundable but are transferable. \nAFTER 3PM day of show\, Tickets will only be available at the GATE.   \n 
URL:https://stonefieldcellars.com/event/friday-flavors-concert-12mcase-27june2025/
LOCATION:Stonefield Cellars Winery\, 8220 NC-68\, Stokesdale\, NC\, 27357\, United States
CATEGORIES:Concert,Food Truck,Live Music,Ticketed Event
END:VEVENT
END:VCALENDAR