BEGIN:VCALENDAR
VERSION:2.0
PRODID:-//Stonefield Cellars Winery - ECPv6.15.20//NONSGML v1.0//EN
CALSCALE:GREGORIAN
METHOD:PUBLISH
X-WR-CALNAME:Stonefield Cellars Winery
X-ORIGINAL-URL:https://stonefieldcellars.com
X-WR-CALDESC:Events for Stonefield Cellars Winery
REFRESH-INTERVAL;VALUE=DURATION:PT1H
X-Robots-Tag:noindex
X-PUBLISHED-TTL:PT1H
BEGIN:VTIMEZONE
TZID:America/New_York
BEGIN:DAYLIGHT
TZOFFSETFROM:-0500
TZOFFSETTO:-0400
TZNAME:EDT
DTSTART:20240310T070000
END:DAYLIGHT
BEGIN:STANDARD
TZOFFSETFROM:-0400
TZOFFSETTO:-0500
TZNAME:EST
DTSTART:20241103T060000
END:STANDARD
BEGIN:DAYLIGHT
TZOFFSETFROM:-0500
TZOFFSETTO:-0400
TZNAME:EDT
DTSTART:20250309T070000
END:DAYLIGHT
BEGIN:STANDARD
TZOFFSETFROM:-0400
TZOFFSETTO:-0500
TZNAME:EST
DTSTART:20251102T060000
END:STANDARD
BEGIN:DAYLIGHT
TZOFFSETFROM:-0500
TZOFFSETTO:-0400
TZNAME:EDT
DTSTART:20260308T070000
END:DAYLIGHT
BEGIN:STANDARD
TZOFFSETFROM:-0400
TZOFFSETTO:-0500
TZNAME:EST
DTSTART:20261101T060000
END:STANDARD
END:VTIMEZONE
BEGIN:VEVENT
DTSTART;TZID=America/New_York:20250711T190000
DTEND;TZID=America/New_York:20250711T210000
DTSTAMP:20260424T214341
CREATED:20241205T184406Z
LAST-MODIFIED:20250709T183940Z
UID:24471-1752260400-1752267600@stonefieldcellars.com
SUMMARY:Friday Flavors Concert - Sean Gavin and Friends (Irish Trad.\, Folk)
DESCRIPTION:UPDATE –  This concert will be held INDOORS in our air-conditioned Barrel Room.  VIP table seats are still available @$15 each and some General Admission seats @ $12.50 each.  \nOnline tickets available until 3PM the day of the concert\, tickets sold at the Door thereafter. \nStonefield Cellars is so pleased to bring back  Sean Gavin and Don Penzien\, with fiddle player Liz Hanley as our Celtic band offering this season.  See bios and examples of their music in their respective website links below. \n  \nSean Gavin\n\n\n\n\n\n\n\n\n\nUilleann piper and flute player Seán Gavin is one of the most highly regarded Irish musicians of his generation. In 2016 he became the first and only musician born outside Ireland to win the prestigious Seán Ó Riada Gold Medal\, and his most recent recording was hailed by The Irish Echo as “traditional music at its best!” He is among the most highly sought instructors of Irish music and has taught at institutions around the world. He now serves as Director of the Swannanoa Gathering’s Celtic Week. \n\n\n\n\n\n\n\n\n\n  \n  \nhttps://www.seangavinmusic.com/about/ \nDon Penzien Don Penzien has long been a top-flight performer of Irish traditional music. He frequently is on the road playing concerts and festivals with Haley Richardson\, Gailfean\, Brian Conway\, Gerry O’Connor\, and The Máirtín de Cógáin Project\, and he has served as accompanist for numerous other well-known performers (e.g.\, Seán Gavin\, Randal Bays\, Máirtín de Cógáin\, John Whelan\, Tim Britton\, John Williams\, Pat Broaders\, Gabe Donohue\, Ben Jaber\, Tony DeMarco\, Billy McComiskey\, Sean Clohessy\, Bridget Fitzgerald\, Kevin Doyle). Widely recognized for his reserved backing style\, Don’s dexterous work on DADGAD-tuned guitar provides solid\, driving rhythms to traditional tunes as well as perceptive and sensitive accompaniments to songs and airs. Don is a Michigan native with strong roots in Irish culture and an affinity for Celtic music. He now resides in NC where he works as Professor at the Wake Forest School of Medicine.\n  \n  \n  \n  \n  \n  \n  \n  \n  \n  \n  \n  \n  \n  \n  \n  \n  \n  \n  \n  \n  \n  \n \n\n\n\n\nLiz Hanley \n\n\n\n\n\n\n\n\nIs a Brooklyn-based singer and fiddle player. She learned traditional tunes from her father (fiddle player Andy Hanley) and from gatherings in the homes of her grandparents and the great Brian O’Donovan. She attended the New England Conservatory Preparatory School and then undertook Irish studies at NYU with Dr. Mick Moloney. She frequently toured as a member of Moloney’s Green Fields of America as well as the progressive folk rock ensemble Frogbelly and Symphony. \n\n\n\n\nhttps://www.lizhanley.com/about \n  \nAdvance Ticket Purchase is Recommended: You will not receive physical tickets. Your name will be placed on a Pre-Paid Will-Call list at the Entrance Table; please have your ID available in case we need to confirm your ticket purchase. If you have any questions regarding tickets you can reach us over the phone at 336-644-9908 during regular business hours (12-6pm Thurs-Sat & 1-6pm Sun).  NOTE: If you are using a mobile device to order tickets\, you will need to be in ‘landscape’ mode (i.e.\, turn your phone sideways) so that you can view all fields for entering in your information. \nCOST:  See Seating Options below. \nEVENT TIMELINE:   Concert is from 7-9 (or a wee bit later) pm. The Food Truck will be ready to serve by 6:30 pm. Guests may arrive at any time prior to the concert.  Please proceed to the Tasting Room to check in. \nINSIDE OR OUT?:  At the request of the band\, this concert will be held INSIDE in our air conditioned Barrel Room (with overflow in the Tasting Room). \nSEATING: \nVIP Table Seating $15 per person \nGA Chair seating $12.50 per person \n  \n  \n  \nDRINKS:   Wine\, Fresh Sangria\, Beer\, and non-alcoholic beverages will be available for purchase. \nFOOD:  Zeko’s 2 Go – Pitas\, Phillysteaks\, Chicken\, Veg. Options \nEVENT POLICIES – \n\nPlease follow best-practice protocols for keeping yourself and our community safe from any communicable disease.  Please refrain from visiting us when you are sick.\nNo Pets\nNo Outside Alcohol (because that is prohibited by law) or Outside Food (please support the Food Truck)\nNo Coolers (complimentary beverage chillers available at bar)\nNo Smoking (includes vaping)\nNo Littering our parking lot or property\n\nConcert tickets are non-refundable. \nAFTER 3PM day of show\, Tickets will only be available at the DOOR.  
URL:https://stonefieldcellars.com/event/friday-flavors-concert-seangavinandfriends/
LOCATION:Stonefield Cellars Winery\, 8220 NC-68\, Stokesdale\, NC\, 27357\, United States
CATEGORIES:Concert,Food Truck,Ticketed Event
END:VEVENT
BEGIN:VEVENT
DTSTART;TZID=America/New_York:20250718T190000
DTEND;TZID=America/New_York:20250718T210000
DTSTAMP:20260424T214341
CREATED:20241205T190719Z
LAST-MODIFIED:20250709T185459Z
UID:24481-1752865200-1752872400@stonefieldcellars.com
SUMMARY:Friday Flavors Concert - Radio Revolver (Rock and Blues) 18July25
DESCRIPTION:Online tickets for this concert will be available until 3PM the day of the concert\, tickets sold at the gate thereafter. \nFor a sampling of Radio Revolver check out this video: Radio Revolver Promo Video  https://www.radiorevolver.net/ \nLet’s just say this band is one of the top rock cover bands in the Triad.  We love them and think you will too! \nAdvance Ticket Purchase is Recommended: You will not receive physical tickets. Your name will be placed on a Pre-Paid Will-Call list at the Entrance Table; please have your ID available in case we need to confirm your ticket purchase. If you have any questions regarding tickets you can reach us over the phone at 336-644-9908 during regular business hours (12-6pm Thurs-Sat & 1-6pm Sun). \nNOTE: If you are using a mobile device to order tickets\, you will need to be in ‘landscape’ mode (i.e.\, turn your phone sideways) so that you can view all fields for entering in your information. \nCOST:  See Seating Options below. \nEVENT TIMELINE:   Concert is from 7-9 (or a wee bit later) pm. The Food Truck will be ready to serve by 6:30 pm. Guests may arrive at any time prior to the concert. Prior to 6:30 pm please proceed to our Tasting Room to purchase your ticket or get your prepaid wristband. After 6:30 pm\, at-the-gate sales and Will Call check-in will be at our Entrance Table. \nINSIDE OR OUT?: This concert will be held OUTSIDE in our lovely garden\, rain or shine. Dress for the weather.  Should severe\, unsafe conditions arise\, it is possible that the concert will be delayed or interrupted until it is safe to start/resume.  We will post any schedule changes on our website and on the Stonefield Cellars Winery Facebook Page. \nSEATING: \n\n4-person Front Row VIP Bistro Seating for $60 (includes admission for four)\n6-person Front Row VIP Glass-Top Table Seating for $90 (includes admission for six)\n4-person Pavilion VIP Bistro Seating for $60 (includes admission for four)\nGeneral Admission ($12.50/person): Bring a lawn chair for our terraced lawn area\, or we have first-come-first-seat picnic tables in the upper garden.\n\n\nSide Lawn Admission ($10/person): Bring a lawn chair or picnic blanket. This area does not have a direct view of the band! Best for guests who want plenty of room to socialize\, drink and dance. Side Lawn attendees can still hear the music and the lawn has easy access to our Tasting Room & Food Truck. (Picnic blankets available in Tasting Room\, boho tables on side lawn are available on an unreserved basis.)\n\n \n \n \nDRINKS:   Wine\, Fresh Sangria\, Beer\, and non-alcoholic beverages will be available for purchase. \nFOOD: West Coast Wanderer – Meat or Veggie on grilled Naan and MORE. \nEVENT POLICIES – \n\nPlease follow best-practice protocols for keeping yourself and our community safe from any communicable disease.  Please refrain from visiting us when you are sick.\nNo Pets\nNo Outside Alcohol (because that is prohibited by law) or Outside Food (please support the Food Truck)\nNo Coolers (complimentary beverage chillers available at bar)\nNo Smoking (includes vaping)\nNo Littering our parking lot or property\n\nConcert tickets are non-refundable.
URL:https://stonefieldcellars.com/event/friday-flavors-concert-radio-revolver-rock-blues-18july25/
LOCATION:Stonefield Cellars Winery\, 8220 NC-68\, Stokesdale\, NC\, 27357\, United States
CATEGORIES:Concert,Food Truck,Ticketed Event
END:VEVENT
BEGIN:VEVENT
DTSTART;TZID=America/New_York:20250725T190000
DTEND;TZID=America/New_York:20250725T210000
DTSTAMP:20260424T214341
CREATED:20241205T191835Z
LAST-MODIFIED:20250531T015317Z
UID:24490-1753470000-1753477200@stonefieldcellars.com
SUMMARY:Friday Flavors Concert - Moxie  (Classic R & B\, Soul & Funk) 25Jul25
DESCRIPTION:Online tickets for this concert will be available until 3PM the day of the concert\, tickets sold at the gate thereafter. \nPresenting the best in Classic R&B\, Soul & Funk\, Moxie Band has the energy\, style\, and impeccable musicianship it takes to be worthy of us touting them as OUR FAVORITE.  We think they will be yours too!  The dance floor will be hopping this night\, for sure! \nAdvance Ticket Purchase is Recommended: You will not receive physical tickets. Your name will be placed on a Pre-Paid Will-Call list at the Entrance Table; please have your ID available in case we need to confirm your ticket purchase. If you have any questions regarding tickets you can reach us over the phone at 336-644-9908 during regular business hours (12-6pm Thurs-Sat & 1-6pm Sun). \nNOTE: If you are using a mobile device to order tickets\, you will need to be in ‘landscape’ mode (i.e.\, turn your phone sideways) so that you can view all fields for entering in your information. \nCOST:  See Seating Options below. \nEVENT TIMELINE:   Concert is from 7-9 (or a wee bit later) pm. The Food Truck will be ready to serve by 6:30 pm. Guests may arrive at any time prior to the concert. Prior to 6:30 pm please proceed to our Tasting Room to purchase your ticket or get your prepaid wristband. After 6:30 pm\, at-the-gate sales and Will Call check-in will be at our Entrance Table. \nINSIDE OR OUT?: This concert will be held OUTSIDE in our lovely garden\, rain or shine. Dress for the weather.  Should severe\, unsafe conditions arise\, it is possible that the concert will be delayed or interrupted until it is safe to start/resume.  We will post any schedule changes on our website and on the Stonefield Cellars Winery Facebook Page. \nSEATING:   For this Concert\, please SEE Exceptions as noted above! \n\n4-person Front Row VIP Bistro Seating for $60 (includes admission for four)\n6-person Front Row VIP Glass-Top Table Seating for $90 (includes admission for six)\n4-person Pavilion VIP Bistro Seating for $60 (includes admission for four)\nGeneral Admission ($12.50/person): Bring a lawn chair for our terraced lawn area\, or we have first-come-first-seat picnic tables in the upper garden.\nSide Lawn Admission ($10/person): Bring a lawn chair or picnic blanket. This area does not have a direct view of the band! Best for guests who want plenty of room to socialize\, drink and dance. Side Lawn attendees can still hear the music and the lawn has easy access to our Tasting Room & Food Truck. (Picnic blankets available in Tasting Room\, boho tables on side lawn are available on an unreserved basis.)\n\n \n \n \nDRINKS:   Wine\, Fresh Sangria\, Beer\, and non-alcoholic beverages will be available for purchase. \nFOOD:  Zeko’s 2 Go (Pitas\, phillysteaks\, chicken\, and veggie options) \nEVENT POLICIES – \n\nPlease follow best-practice protocols for keeping yourself and our community safe from any communicable disease.  Please refrain from visiting us when you are sick.\nNo Pets\nNo Outside Alcohol (because that is prohibited by law) or Outside Food (please support the Food Truck)\nNo Coolers (complimentary beverage chillers available at bar)\nNo Smoking (includes vaping)\nNo Littering our parking lot or property\n\nConcert tickets are non-refundable. \nAFTER 3PM day of show\, Tickets will only be available at the GATE.  
URL:https://stonefieldcellars.com/event/friday-flavors-concert-moxie25jul25/
LOCATION:Stonefield Cellars Winery\, 8220 NC-68\, Stokesdale\, NC\, 27357\, United States
CATEGORIES:Concert,Food Truck,Ticketed Event
END:VEVENT
END:VCALENDAR