BEGIN:VCALENDAR
VERSION:2.0
PRODID:-//Stonefield Cellars Winery - ECPv6.15.20//NONSGML v1.0//EN
CALSCALE:GREGORIAN
METHOD:PUBLISH
X-WR-CALNAME:Stonefield Cellars Winery
X-ORIGINAL-URL:https://stonefieldcellars.com
X-WR-CALDESC:Events for Stonefield Cellars Winery
REFRESH-INTERVAL;VALUE=DURATION:PT1H
X-Robots-Tag:noindex
X-PUBLISHED-TTL:PT1H
BEGIN:VTIMEZONE
TZID:America/New_York
BEGIN:DAYLIGHT
TZOFFSETFROM:-0500
TZOFFSETTO:-0400
TZNAME:EDT
DTSTART:20240310T070000
END:DAYLIGHT
BEGIN:STANDARD
TZOFFSETFROM:-0400
TZOFFSETTO:-0500
TZNAME:EST
DTSTART:20241103T060000
END:STANDARD
BEGIN:DAYLIGHT
TZOFFSETFROM:-0500
TZOFFSETTO:-0400
TZNAME:EDT
DTSTART:20250309T070000
END:DAYLIGHT
BEGIN:STANDARD
TZOFFSETFROM:-0400
TZOFFSETTO:-0500
TZNAME:EST
DTSTART:20251102T060000
END:STANDARD
BEGIN:DAYLIGHT
TZOFFSETFROM:-0500
TZOFFSETTO:-0400
TZNAME:EDT
DTSTART:20260308T070000
END:DAYLIGHT
BEGIN:STANDARD
TZOFFSETFROM:-0400
TZOFFSETTO:-0500
TZNAME:EST
DTSTART:20261101T060000
END:STANDARD
END:VTIMEZONE
BEGIN:VEVENT
DTSTART;TZID=America/New_York:20250905T190000
DTEND;TZID=America/New_York:20250905T210000
DTSTAMP:20260424T180733
CREATED:20241206T175152Z
LAST-MODIFIED:20250902T180504Z
UID:24549-1757098800-1757106000@stonefieldcellars.com
SUMMARY:Friday Flavors Concert - HWY 42 (Classic and Southern Rock\, Country)
DESCRIPTION:We are happy to bring this band back for our 2025 Season!  Great music by a fun and talented group\, we hope you enjoy them as much as we do. \nOnline tickets available starting 8/1/25  until 3PM the day of the concert\, tickets sold at the gate thereafter. \nAdvance Ticket Purchase is Recommended: You will not receive physical tickets. Your name will be placed on a Pre-Paid Will-Call list at the Entrance Table; please have your ID available in case we need to confirm your ticket purchase. If you have any questions regarding tickets you can reach us over the phone at 336-644-9908 during regular business hours (12-6pm Thurs-Sat & 1-6pm Sun). \nCOST:  See Seating Options below. \nEVENT TIMELINE:   Concert is from 7-9 (or a wee bit later) pm. The Food Truck will be ready to serve by 6:30 pm. Guests may arrive at any time prior to the concert. Prior to 6:30 pm please proceed to our Tasting Room to purchase your ticket or get your prepaid wristband. After 6:30 pm\, at-the-gate sales and Will Call check-in will be at our Entrance Table. \nINSIDE OR OUT?: This concert will be held OUTSIDE in our lovely garden\, rain or shine. Dress for the weather.  Should severe\, unsafe conditions arise\, it is possible that the concert will be delayed or interrupted until it is safe to start/resume.  We will post any schedule changes on our website and on the Stonefield Cellars Winery Facebook Page. \nSEATING: \n\n4-person Front Row VIP Bistro Seating for $60 (includes admission for four)\n6-person Front Row VIP Glass-Top Table Seating for $90 (includes admission for six)\n4-person Pavilion VIP Bistro Seating for $60 (includes admission for four)\nGeneral Admission ($12.50/person): Bring a lawn chair for our terraced lawn area\, or we have first-come-first-seat picnic tables in the upper garden.\nSide Lawn Admission ($10/person): Bring a lawn chair or picnic blanket. This area does not have a direct view of the band! Best for guests who want plenty of room to socialize\, drink and dance. Side Lawn attendees can still hear the music and the lawn has easy access to our Tasting Room & Food Truck. (Picnic blankets available in Tasting Room\, boho tables on side lawn are available on an unreserved basis.)\n\n \n \n \nDRINKS:   Wine\, Fresh Sangria\, Beer\, and non-alcoholic beverages will be available for purchase. \nFOOD:  JJ’s Cuban Kitchen (Cuban Sandwiches and Plates) will be our food truck for the evening! \nEVENT POLICIES – \n\nPlease follow best-practice protocols for keeping yourself and our community safe from any communicable disease.  Please refrain from visiting us when you are sick.\nNo Pets\nNo Outside Alcohol (because that is prohibited by law) or Outside Food (please support the Food Truck)\nNo Coolers (complimentary beverage chillers available at bar)\nNo Smoking (includes vaping)\nNo Littering our parking lot or property\n\nConcert tickets are non-refundable. \nNOTE:  If you are ordering tickets using a mobile phone – turn your phone sideways to ‘landscape mode’ so all the ticket ordering fields will be fully visible!
URL:https://stonefieldcellars.com/event/friday-flavors-concert-hwy42-rockandcountry-5sept25/
LOCATION:Stonefield Cellars Winery\, 8220 NC-68\, Stokesdale\, NC\, 27357\, United States
CATEGORIES:Concert,Food Truck,Ticketed Event
END:VEVENT
BEGIN:VEVENT
DTSTART;TZID=America/New_York:20250912T190000
DTEND;TZID=America/New_York:20250912T210000
DTSTAMP:20260424T180733
CREATED:20241206T202503Z
LAST-MODIFIED:20250729T234314Z
UID:24561-1757703600-1757710800@stonefieldcellars.com
SUMMARY:Friday Flavors Concert - Gipsy Danger (Folk Rock)
DESCRIPTION:Online tickets for this concert will be available starting August 1 through 3PM the day of the concert\, tickets sold at the gate thereafter. \nA band that will please everyone – rockers\, country rockers\, folk folks\, you get the idea. Well\, maybe not beach music lovers.   But hey – you want a good time?  This band’s gonna make you happy\, we’re sure!!!  And what’s not to love when you throw in fantastic wine\, AND West Coast Wanderer Food Truck.  A perfect night\, for sure.  Get your tickets early – it will sell out for certain. \nAdvance Ticket Purchase is Recommended: You will not receive physical tickets. Your name will be placed on a Pre-Paid Will-Call list at the Entrance Table; please have your ID available in case we need to confirm your ticket purchase. If you have any questions regarding tickets you can reach us over the phone at 336-644-9908 during regular business hours (12-6pm Thurs-Sat & 1-6pm Sun). \nCOST:  See Seating Options below. \nEVENT TIMELINE:   Concert is from 7-9 (or a wee bit later) pm. The Food Truck will be ready to serve by 6:30 pm. Guests may arrive at any time prior to the concert. Prior to 6:30 pm please proceed to our Tasting Room to purchase your ticket or get your prepaid wristband. After 6:30 pm\, at-the-gate sales and Will Call check-in will be at our Entrance Table. \nINSIDE OR OUT?: This concert will be held OUTSIDE in our lovely garden\, rain or shine. Dress for the weather.  Should severe\, unsafe conditions arise\, it is possible that the concert will be delayed or interrupted until it is safe to start/resume.  We will post any schedule changes on our website and on the Stonefield Cellars Winery Facebook Page. \nSEATING: \n\n4-person Front Row VIP Bistro Seating for $60 (includes admission for four)\n6-person Front Row VIP Glass-Top Table Seating for $90 (includes admission for six)\n4-person Pavilion VIP Bistro Seating for $60 (includes admission for four)\nGeneral Admission ($12.50/person): Bring a lawn chair for our terraced lawn area\, or we have first-come-first-seat picnic tables in the upper garden.\nSide Lawn Admission ($10/person): Bring a lawn chair or picnic blanket. This area does not have a direct view of the band! Best for guests who want plenty of room to socialize\, drink and dance. Side Lawn attendees can still hear the music and the lawn has easy access to our Tasting Room & Food Truck. (Picnic blankets available in Tasting Room\, boho tables on side lawn are available on an unreserved basis.)\n\n \n \n \nDRINKS:   Wine\, Fresh Sangria\, Beer\, and non-alcoholic beverages will be available for purchase. \nFOOD:  West Coast Wanderer – Meat or Veggie on grilled Naan and more! \nEVENT POLICIES – \n\nPlease follow best-practice protocols for keeping yourself and our community safe from any communicable disease.  Please refrain from visiting us when you are sick.\nNo Pets\nNo Outside Alcohol (because that is prohibited by law) or Outside Food (please support the Food Truck)\nNo Coolers (complimentary beverage chillers available at bar)\nNo Smoking (includes vaping)\nNo Littering our parking lot or property\n\nConcert tickets are non-refundable. \nNOTE:  If you are using a mobile phone to purchase tickets online\, please turn your phone sideways (in landscape viewing mode) so that all ordering fields will be fully visible.
URL:https://stonefieldcellars.com/event/friday-flavors-concert-gipsydanger-12sept25/
LOCATION:Stonefield Cellars Winery\, 8220 NC-68\, Stokesdale\, NC\, 27357\, United States
CATEGORIES:Concert,Food Truck,Ticketed Event
END:VEVENT
BEGIN:VEVENT
DTSTART;TZID=America/New_York:20250919T190000
DTEND;TZID=America/New_York:20250919T210000
DTSTAMP:20260424T180733
CREATED:20241205T214947Z
LAST-MODIFIED:20250917T155343Z
UID:24533-1758308400-1758315600@stonefieldcellars.com
SUMMARY:Friday Flavors Concert - Radio Revolver (Rock and Blues)
DESCRIPTION:Online tickets for this concert will be available August 1st through 3PM the day of the concert\, tickets sold at the gate thereafter. \nFor a sampling of Radio Revolver\, visit  Radio Revolver Video    https://www.radiorevolver.net/ \nLet’s just say this band is one of the top rock cover bands in the Triad.  We love them and think you will too! \nAdvance Ticket Purchase is Recommended: You will not receive physical tickets. Your name will be placed on a Pre-Paid Will-Call list at the Entrance Table; please have your ID available in case we need to confirm your ticket purchase. If you have any questions regarding tickets you can reach us over the phone at 336-644-9908 during regular business hours (12-6pm Thurs-Sat & 1-6pm Sun).  \nCOST:  See Seating Options below. \nEVENT TIMELINE:   Concert is from 7-9 (or a wee bit later) pm. The Food Truck will be ready to serve by 6:30 pm. Guests may arrive at any time prior to the concert. Prior to 6:30 pm please proceed to our Tasting Room to purchase your ticket or get your prepaid wristband. After 6:30 pm\, at-the-gate sales and Will Call check-in will be at our Entrance Table. \nINSIDE OR OUT?: This concert will be held OUTSIDE in our lovely garden\, rain or shine. Dress for the weather.  Should severe\, unsafe conditions arise\, it is possible that the concert will be delayed or interrupted until it is safe to start/resume.  We will post any schedule changes on our website and on the Stonefield Cellars Winery Facebook Page. \nSEATING: \n\n4-person Front Row VIP Bistro Seating for $60 (includes admission for four)\n6-person Front Row VIP Glass-Top Table Seating for $90 (includes admission for six)\n4-person Pavilion VIP Bistro Seating for $60 (includes admission for four)\nGeneral Admission ($12.50/person): Bring a lawn chair for our terraced lawn area\, or we have first-come-first-seat picnic tables in the upper garden.\n\n\nSide Lawn Admission ($10/person): Bring a lawn chair or picnic blanket. This area does not have a direct view of the band! Best for guests who want plenty of room to socialize\, drink and dance. Side Lawn attendees can still hear the music and the lawn has easy access to our Tasting Room & Food Truck. (Picnic blankets available in Tasting Room\, boho tables on side lawn are available on an unreserved basis.)\n\n \n \n \nDRINKS:   Wine\, Fresh Sangria\, Beer\, and non-alcoholic beverages will be available for purchase. \nFOOD: Zeko’s 2 G0 – Pitas\, Phillysteaks chicken and veg. options. \nEVENT POLICIES – \n\nPlease follow best-practice protocols for keeping yourself and our community safe from any communicable disease.  Please refrain from visiting us when you are sick.\nNo Pets\nNo Outside Alcohol (because that is prohibited by law) or Outside Food (please support the Food Truck)\nNo Coolers (complimentary beverage chillers available at bar)\nNo Smoking (includes vaping)\nNo Littering our parking lot or property\n\nConcert tickets are non-refundable. \nNote:  If you are purchasing tickets via mobile phone\, please turn your phone sideways (in landscape viewing mode) so all ordering fields will be visible.
URL:https://stonefieldcellars.com/event/friday-flavors-concert-radio-revolver-rock-blues-sept-2025/
LOCATION:Stonefield Cellars Winery\, 8220 NC-68\, Stokesdale\, NC\, 27357\, United States
CATEGORIES:Concert,Food Truck,Ticketed Event
END:VEVENT
BEGIN:VEVENT
DTSTART;TZID=America/New_York:20250926T190000
DTEND;TZID=America/New_York:20250926T210000
DTSTAMP:20260424T180733
CREATED:20241206T210356Z
LAST-MODIFIED:20250926T150526Z
UID:24569-1758913200-1758920400@stonefieldcellars.com
SUMMARY:Friday Flavors Concert - Moxie  (Classic R & B\, Soul & Funk)
DESCRIPTION:UPDATE:  This Concert is now SOLD OUT as it will be moved INSIDE at the request of the band. \nPresenting the best in Classic R&B\, Soul & Funk\, Moxie Band has the energy\, style\, and impeccable musicianship it takes to be worthy of us touting them as OUR FAVORITE.  We think they will be yours too!  The dance floor will be hopping this night\, for sure! \nAdvance Ticket Purchase is Recommended: You will not receive physical tickets. Your name will be placed on a Pre-Paid Will-Call list at the Entrance Table; please have your ID available in case we need to confirm your ticket purchase. If you have any questions regarding tickets you can reach us over the phone at 336-644-9908 during regular business hours (12-6pm Thurs-Sat & 1-6pm Sun). \nCOST:  See Seating Options below. \nEVENT TIMELINE:   Concert is from 7-9 (or a wee bit later) pm. The Food Truck will be ready to serve by 6:30 pm. Guests may arrive at any time prior to the concert. Prior to 6:30 pm please proceed to our Tasting Room to purchase your ticket or get your prepaid wristband. After 6:30 pm\, at-the-gate sales and Will Call check-in will be at our Entrance Table. \nINSIDE OR OUT?:    This Concert is being moved INSIDE at the request of the band.  This concert will be held OUTSIDE in our lovely garden\, rain or shine. Dress for the weather.  Should severe\, unsafe conditions arise\, it is possible that the concert will be delayed or interrupted until it is safe to start/resume.  We will post any schedule changes on our website and on the Stonefield Cellars Winery Facebook Page. \nSEATING:   Seating will be in our Barrel Room.  Table ticket holders will be sat at tables.  GA ticket holders will be provided chairs (no need to bring your own). \n\n4-person Front Row VIP Bistro Seating for $60 (includes admission for four)\n6-person Front Row VIP Glass-Top Table Seating for $90 (includes admission for six)\n4-person Pavilion VIP Bistro Seating for $60 (includes admission for four)\nGeneral Admission ($12.50/person): Bring a lawn chair for our terraced lawn area\, or we have first-come-first-seat picnic tables in the upper garden.\nSide Lawn Admission ($10/person): Bring a lawn chair or picnic blanket. This area does not have a direct view of the band! Best for guests who want plenty of room to socialize\, drink and dance. Side Lawn attendees can still hear the music and the lawn has easy access to our Tasting Room & Food Truck. (Picnic blankets available in Tasting Room\, boho tables on side lawn are available on an unreserved basis.)\n\n \n \n \nDRINKS:   Wine\, Fresh Sangria\, Beer\, and non-alcoholic beverages will be available for purchase. \nFOOD:  West Coast Wanderer \nEVENT POLICIES – \n\nPlease follow best-practice protocols for keeping yourself and our community safe from any communicable disease.  Please refrain from visiting us when you are sick.\nNo Pets\nNo Outside Alcohol (because that is prohibited by law) or Outside Food (please support the Food Truck)\nNo Coolers (complimentary beverage chillers available at bar)\nNo Smoking (includes vaping)\nNo Littering our parking lot or property\n\nConcert tickets are non-refundable. \n  \nSOLD OUT \nAFTER 3PM day of show\, Tickets will only be available at the GATE.   \nNOTE:  If you are purchasing tickets via mobile phone\, please turn your phone sideways (in landscape mode) so all ordering fields will be visible.
URL:https://stonefieldcellars.com/event/friday-flavors-concert-moxie-band-26sept25/
LOCATION:Stonefield Cellars Winery\, 8220 NC-68\, Stokesdale\, NC\, 27357\, United States
CATEGORIES:Concert,Food Truck,Ticketed Event
END:VEVENT
END:VCALENDAR